BEGIN:VCALENDAR
VERSION:2.0
PRODID:-//Sing! Community Choir - ECPv6.15.20//NONSGML v1.0//EN
CALSCALE:GREGORIAN
METHOD:PUBLISH
X-WR-CALNAME:Sing! Community Choir
X-ORIGINAL-URL:https://singcommunitychoir.co.uk
X-WR-CALDESC:Events for Sing! Community Choir
REFRESH-INTERVAL;VALUE=DURATION:PT1H
X-Robots-Tag:noindex
X-PUBLISHED-TTL:PT1H
BEGIN:VTIMEZONE
TZID:Europe/London
BEGIN:DAYLIGHT
TZOFFSETFROM:+0000
TZOFFSETTO:+0100
TZNAME:BST
DTSTART:20230326T010000
END:DAYLIGHT
BEGIN:STANDARD
TZOFFSETFROM:+0100
TZOFFSETTO:+0000
TZNAME:GMT
DTSTART:20231029T010000
END:STANDARD
BEGIN:DAYLIGHT
TZOFFSETFROM:+0000
TZOFFSETTO:+0100
TZNAME:BST
DTSTART:20240331T010000
END:DAYLIGHT
BEGIN:STANDARD
TZOFFSETFROM:+0100
TZOFFSETTO:+0000
TZNAME:GMT
DTSTART:20241027T010000
END:STANDARD
BEGIN:DAYLIGHT
TZOFFSETFROM:+0000
TZOFFSETTO:+0100
TZNAME:BST
DTSTART:20250330T010000
END:DAYLIGHT
BEGIN:STANDARD
TZOFFSETFROM:+0100
TZOFFSETTO:+0000
TZNAME:GMT
DTSTART:20251026T010000
END:STANDARD
END:VTIMEZONE
BEGIN:VEVENT
DTSTART;TZID=Europe/London:20240210T193000
DTEND;TZID=Europe/London:20240210T213000
DTSTAMP:20260421T220553
CREATED:20230813T104406Z
LAST-MODIFIED:20240115T210451Z
UID:2235-1707593400-1707600600@singcommunitychoir.co.uk
SUMMARY:Glow - Winter Concert 2024
DESCRIPTION:We present a joyful concert of music and song to banish the winter blues and warm your heart! \n\nOn Saturday 10 February 2024 at 7:30pm\, please join us at Atrium Hall\, The Netherhall School in Cambridge. \nTickets are £8 / £5 concessions\, or free for under 10s. \nOur concert is in support of Cambridge City Food Bank\, providing nutritionally balanced emergency food and support to local people in crisis around Cambridge. \nDoors open 7:10pm for a 7:30pm start. \nBook online now to secure your seat! Tickets on the door will be cash only. \n\n\n\n   \n  \n\n\n\n\n\n\n\n\n\n\n\n\n\n\n\nPlease do not attend if you are unwell or likely to be infectious: See also COVID-19 Safety \n\nGetting here\n\n\n\nAtrium Hall at The Netherhall School has ample free parking\, and is accessible by frequent buses from the town centre and station. \n\n\n\nBy Bus:\n\n\n\nThe Citi 1 bus stops outside the school\, and runs frequently from the centre of town via the station towards Cherry Hinton. \n\nBy Car / Bike:\n\n\n\nDirections via Google Maps \n\n\n\nPlease enter the Netherhall School site through the Students Entrance (not the main school/sports centre entrance) \n\nThe ‘Students Entrance’ is a separate gateway off Queen Edith’s Way\nCar parking is in the playground.\nThere will be signs to show you the way!
URL:https://singcommunitychoir.co.uk/event/winter-concert-2024/
LOCATION:Atrium Hall\, The Netherhall School\, Cambridge\, United Kingdom
CATEGORIES:Concerts
ATTACH;FMTTYPE=image/jpeg:https://singcommunitychoir.co.uk/wp-content/uploads/2023/08/Winter-2023-24-Concert-16-9.jpg
END:VEVENT
END:VCALENDAR