BEGIN:VCALENDAR
VERSION:2.0
PRODID:-//Sing! Community Choir - ECPv6.15.20//NONSGML v1.0//EN
CALSCALE:GREGORIAN
METHOD:PUBLISH
X-WR-CALNAME:Sing! Community Choir
X-ORIGINAL-URL:https://singcommunitychoir.co.uk
X-WR-CALDESC:Events for Sing! Community Choir
REFRESH-INTERVAL;VALUE=DURATION:PT1H
X-Robots-Tag:noindex
X-PUBLISHED-TTL:PT1H
BEGIN:VTIMEZONE
TZID:Europe/London
BEGIN:DAYLIGHT
TZOFFSETFROM:+0000
TZOFFSETTO:+0100
TZNAME:BST
DTSTART:20220327T010000
END:DAYLIGHT
BEGIN:STANDARD
TZOFFSETFROM:+0100
TZOFFSETTO:+0000
TZNAME:GMT
DTSTART:20221030T010000
END:STANDARD
BEGIN:DAYLIGHT
TZOFFSETFROM:+0000
TZOFFSETTO:+0100
TZNAME:BST
DTSTART:20230326T010000
END:DAYLIGHT
BEGIN:STANDARD
TZOFFSETFROM:+0100
TZOFFSETTO:+0000
TZNAME:GMT
DTSTART:20231029T010000
END:STANDARD
BEGIN:DAYLIGHT
TZOFFSETFROM:+0000
TZOFFSETTO:+0100
TZNAME:BST
DTSTART:20240331T010000
END:DAYLIGHT
BEGIN:STANDARD
TZOFFSETFROM:+0100
TZOFFSETTO:+0000
TZNAME:GMT
DTSTART:20241027T010000
END:STANDARD
END:VTIMEZONE
BEGIN:VEVENT
DTSTART;TZID=Europe/London:20231102T193000
DTEND;TZID=Europe/London:20231102T211500
DTSTAMP:20260422T031239
CREATED:20230926T203135Z
LAST-MODIFIED:20230926T203135Z
UID:2275-1698953400-1698959700@singcommunitychoir.co.uk
SUMMARY:Sing! Rehearsal - Autumn 2023 Term
DESCRIPTION:Rehearsals continue for existing members. \nTo learn more about joining the choir when we’re next accepting new members\, click here. \n 
URL:https://singcommunitychoir.co.uk/event/sing-rehearsal-autumn-2023-term-5/
LOCATION:Hills Road Sixth Form College\, Hills Road\, Cambridge\, Cambridgeshire\, CB2 8PE\, United Kingdom
CATEGORIES:Rehearsals
END:VEVENT
BEGIN:VEVENT
DTSTART;TZID=Europe/London:20231109T193000
DTEND;TZID=Europe/London:20231109T211500
DTSTAMP:20260422T031239
CREATED:20230926T203144Z
LAST-MODIFIED:20230926T203144Z
UID:2277-1699558200-1699564500@singcommunitychoir.co.uk
SUMMARY:Sing! Rehearsal - Autumn 2023 Term
DESCRIPTION:Rehearsals continue for existing members. \nTo learn more about joining the choir when we’re next accepting new members\, click here. \n 
URL:https://singcommunitychoir.co.uk/event/sing-rehearsal-autumn-2023-term-6/
LOCATION:Hills Road Sixth Form College\, Hills Road\, Cambridge\, Cambridgeshire\, CB2 8PE\, United Kingdom
CATEGORIES:Rehearsals
END:VEVENT
BEGIN:VEVENT
DTSTART;TZID=Europe/London:20231116T193000
DTEND;TZID=Europe/London:20231116T211500
DTSTAMP:20260422T031239
CREATED:20230926T203156Z
LAST-MODIFIED:20230926T203156Z
UID:2279-1700163000-1700169300@singcommunitychoir.co.uk
SUMMARY:Sing! Rehearsal - Autumn 2023 Term
DESCRIPTION:Rehearsals continue for existing members. \nTo learn more about joining the choir when we’re next accepting new members\, click here. \n 
URL:https://singcommunitychoir.co.uk/event/sing-rehearsal-autumn-2023-term-7/
LOCATION:Hills Road Sixth Form College\, Hills Road\, Cambridge\, Cambridgeshire\, CB2 8PE\, United Kingdom
CATEGORIES:Rehearsals
END:VEVENT
BEGIN:VEVENT
DTSTART;TZID=Europe/London:20231123T193000
DTEND;TZID=Europe/London:20231123T211500
DTSTAMP:20260422T031239
CREATED:20230926T203203Z
LAST-MODIFIED:20230926T203203Z
UID:2281-1700767800-1700774100@singcommunitychoir.co.uk
SUMMARY:Sing! Rehearsal - Autumn 2023 Term
DESCRIPTION:Rehearsals continue for existing members. \nTo learn more about joining the choir when we’re next accepting new members\, click here. \n 
URL:https://singcommunitychoir.co.uk/event/sing-rehearsal-autumn-2023-term-8/
LOCATION:Hills Road Sixth Form College\, Hills Road\, Cambridge\, Cambridgeshire\, CB2 8PE\, United Kingdom
CATEGORIES:Rehearsals
END:VEVENT
BEGIN:VEVENT
DTSTART;TZID=Europe/London:20231130T193000
DTEND;TZID=Europe/London:20231130T211500
DTSTAMP:20260422T031239
CREATED:20230926T203212Z
LAST-MODIFIED:20230926T203212Z
UID:2283-1701372600-1701378900@singcommunitychoir.co.uk
SUMMARY:Sing! Rehearsal - Autumn 2023 Term
DESCRIPTION:Rehearsals continue for existing members. \nTo learn more about joining the choir when we’re next accepting new members\, click here. \n 
URL:https://singcommunitychoir.co.uk/event/sing-rehearsal-autumn-2023-term-9/
LOCATION:Hills Road Sixth Form College\, Hills Road\, Cambridge\, Cambridgeshire\, CB2 8PE\, United Kingdom
CATEGORIES:Rehearsals
END:VEVENT
END:VCALENDAR