BEGIN:VCALENDAR
VERSION:2.0
PRODID:-//Sing! Community Choir - ECPv6.15.20//NONSGML v1.0//EN
CALSCALE:GREGORIAN
METHOD:PUBLISH
X-WR-CALNAME:Sing! Community Choir
X-ORIGINAL-URL:https://singcommunitychoir.co.uk
X-WR-CALDESC:Events for Sing! Community Choir
REFRESH-INTERVAL;VALUE=DURATION:PT1H
X-Robots-Tag:noindex
X-PUBLISHED-TTL:PT1H
BEGIN:VTIMEZONE
TZID:Europe/London
BEGIN:DAYLIGHT
TZOFFSETFROM:+0000
TZOFFSETTO:+0100
TZNAME:BST
DTSTART:20220327T010000
END:DAYLIGHT
BEGIN:STANDARD
TZOFFSETFROM:+0100
TZOFFSETTO:+0000
TZNAME:GMT
DTSTART:20221030T010000
END:STANDARD
BEGIN:DAYLIGHT
TZOFFSETFROM:+0000
TZOFFSETTO:+0100
TZNAME:BST
DTSTART:20230326T010000
END:DAYLIGHT
BEGIN:STANDARD
TZOFFSETFROM:+0100
TZOFFSETTO:+0000
TZNAME:GMT
DTSTART:20231029T010000
END:STANDARD
BEGIN:DAYLIGHT
TZOFFSETFROM:+0000
TZOFFSETTO:+0100
TZNAME:BST
DTSTART:20240331T010000
END:DAYLIGHT
BEGIN:STANDARD
TZOFFSETFROM:+0100
TZOFFSETTO:+0000
TZNAME:GMT
DTSTART:20241027T010000
END:STANDARD
END:VTIMEZONE
BEGIN:VEVENT
DTSTART;TZID=Europe/London:20230504T193000
DTEND;TZID=Europe/London:20230504T211500
DTSTAMP:20260422T140004
CREATED:20230418T112938Z
LAST-MODIFIED:20230418T112938Z
UID:2149-1683228600-1683234900@singcommunitychoir.co.uk
SUMMARY:Sing! Rehearsal - Summer 2023 Term
DESCRIPTION:Rehearsals continue for existing members. \nTo learn more about joining the choir when we’re next accepting new members\, click here. \n 
URL:https://singcommunitychoir.co.uk/event/sing-rehearsal-summer-2023-3/
LOCATION:Hills Road Sixth Form College\, Hills Road\, Cambridge\, Cambridgeshire\, CB2 8PE\, United Kingdom
CATEGORIES:Rehearsals
END:VEVENT
BEGIN:VEVENT
DTSTART;VALUE=DATE:20230505
DTEND;VALUE=DATE:20230508
DTSTAMP:20260422T140004
CREATED:20230209T184127Z
LAST-MODIFIED:20230327T150943Z
UID:2121-1683244800-1683503999@singcommunitychoir.co.uk
SUMMARY:Sing! members' weekend away
DESCRIPTION:The choir escape to the woods for a weekend of fun activities including\, of course\, some singing! \nIt’s a really sociable and fun weekend including various (non-singing) indoor and outdoor activities\, many run by Sing! members\, and a singing workshop on the Sunday. Sing! members can check recent emails for more information and booking details. \nCheck out what we got up to in 2022!
URL:https://singcommunitychoir.co.uk/event/sing-members-weekend-away/
LOCATION:Ringsfield Hall\, Ringsfield Hall Eco Activity Centre\, Hall Rd\, Beccles\, NR34 8JR\, United Kingdom
CATEGORIES:Socials
END:VEVENT
BEGIN:VEVENT
DTSTART;TZID=Europe/London:20230511T193000
DTEND;TZID=Europe/London:20230511T211500
DTSTAMP:20260422T140004
CREATED:20230418T113046Z
LAST-MODIFIED:20230418T113046Z
UID:2151-1683833400-1683839700@singcommunitychoir.co.uk
SUMMARY:Sing! Rehearsal - Summer 2023 Term
DESCRIPTION:Rehearsals continue for existing members. \nTo learn more about joining the choir when we’re next accepting new members\, click here. \n 
URL:https://singcommunitychoir.co.uk/event/sing-rehearsal-summer-2023-4/
LOCATION:Hills Road Sixth Form College\, Hills Road\, Cambridge\, Cambridgeshire\, CB2 8PE\, United Kingdom
CATEGORIES:Rehearsals
END:VEVENT
BEGIN:VEVENT
DTSTART;TZID=Europe/London:20230518T193000
DTEND;TZID=Europe/London:20230518T211500
DTSTAMP:20260422T140004
CREATED:20230418T113101Z
LAST-MODIFIED:20230418T113101Z
UID:2153-1684438200-1684444500@singcommunitychoir.co.uk
SUMMARY:Sing! Rehearsal - Summer 2023 Term
DESCRIPTION:Rehearsals continue for existing members. \nTo learn more about joining the choir when we’re next accepting new members\, click here. \n 
URL:https://singcommunitychoir.co.uk/event/sing-rehearsal-summer-2023-5/
LOCATION:Hills Road Sixth Form College\, Hills Road\, Cambridge\, Cambridgeshire\, CB2 8PE\, United Kingdom
CATEGORIES:Rehearsals
END:VEVENT
BEGIN:VEVENT
DTSTART;TZID=Europe/London:20230525T193000
DTEND;TZID=Europe/London:20230525T211500
DTSTAMP:20260422T140004
CREATED:20230418T113115Z
LAST-MODIFIED:20230418T113123Z
UID:2155-1685043000-1685049300@singcommunitychoir.co.uk
SUMMARY:Sing! Rehearsal - Summer 2023 Term
DESCRIPTION:Rehearsals continue for existing members. \nTo learn more about joining the choir when we’re next accepting new members\, click here. \n 
URL:https://singcommunitychoir.co.uk/event/sing-rehearsal-summer-2023-6/
LOCATION:Hills Road Sixth Form College\, Hills Road\, Cambridge\, Cambridgeshire\, CB2 8PE\, United Kingdom
CATEGORIES:Rehearsals
END:VEVENT
END:VCALENDAR