BEGIN:VCALENDAR
VERSION:2.0
PRODID:-//Sing! Community Choir - ECPv6.15.20//NONSGML v1.0//EN
CALSCALE:GREGORIAN
METHOD:PUBLISH
X-WR-CALNAME:Sing! Community Choir
X-ORIGINAL-URL:https://singcommunitychoir.co.uk
X-WR-CALDESC:Events for Sing! Community Choir
REFRESH-INTERVAL;VALUE=DURATION:PT1H
X-Robots-Tag:noindex
X-PUBLISHED-TTL:PT1H
BEGIN:VTIMEZONE
TZID:Europe/London
BEGIN:DAYLIGHT
TZOFFSETFROM:+0000
TZOFFSETTO:+0100
TZNAME:BST
DTSTART:20220327T010000
END:DAYLIGHT
BEGIN:STANDARD
TZOFFSETFROM:+0100
TZOFFSETTO:+0000
TZNAME:GMT
DTSTART:20221030T010000
END:STANDARD
BEGIN:DAYLIGHT
TZOFFSETFROM:+0000
TZOFFSETTO:+0100
TZNAME:BST
DTSTART:20230326T010000
END:DAYLIGHT
BEGIN:STANDARD
TZOFFSETFROM:+0100
TZOFFSETTO:+0000
TZNAME:GMT
DTSTART:20231029T010000
END:STANDARD
BEGIN:DAYLIGHT
TZOFFSETFROM:+0000
TZOFFSETTO:+0100
TZNAME:BST
DTSTART:20240331T010000
END:DAYLIGHT
BEGIN:STANDARD
TZOFFSETFROM:+0100
TZOFFSETTO:+0000
TZNAME:GMT
DTSTART:20241027T010000
END:STANDARD
END:VTIMEZONE
BEGIN:VEVENT
DTSTART;TZID=Europe/London:20230302T193000
DTEND;TZID=Europe/London:20230302T211500
DTSTAMP:20260422T173551
CREATED:20230129T113414Z
LAST-MODIFIED:20230129T113414Z
UID:2095-1677785400-1677791700@singcommunitychoir.co.uk
SUMMARY:Sing! Rehearsal - Spring 2023 Term
DESCRIPTION:Rehearsals continue for existing members. \nTo learn more about joining the choir when we’re next accepting new members\, click here. \n 
URL:https://singcommunitychoir.co.uk/event/sing-rehearsal-spring-2023-term-3/
LOCATION:Hills Road Sixth Form College\, Hills Road\, Cambridge\, Cambridgeshire\, CB2 8PE\, United Kingdom
CATEGORIES:Rehearsals
END:VEVENT
BEGIN:VEVENT
DTSTART;TZID=Europe/London:20230309T193000
DTEND;TZID=Europe/London:20230309T211500
DTSTAMP:20260422T173551
CREATED:20230129T113428Z
LAST-MODIFIED:20230129T113428Z
UID:2097-1678390200-1678396500@singcommunitychoir.co.uk
SUMMARY:Sing! Rehearsal - Spring 2023 Term
DESCRIPTION:Rehearsals continue for existing members. \nTo learn more about joining the choir when we’re next accepting new members\, click here. \n 
URL:https://singcommunitychoir.co.uk/event/sing-rehearsal-spring-2023-term-4/
LOCATION:Hills Road Sixth Form College\, Hills Road\, Cambridge\, Cambridgeshire\, CB2 8PE\, United Kingdom
CATEGORIES:Rehearsals
END:VEVENT
BEGIN:VEVENT
DTSTART;TZID=Europe/London:20230316T193000
DTEND;TZID=Europe/London:20230316T211500
DTSTAMP:20260422T173551
CREATED:20230129T113443Z
LAST-MODIFIED:20230129T113443Z
UID:2099-1678995000-1679001300@singcommunitychoir.co.uk
SUMMARY:Sing! Rehearsal - Spring 2023 Term
DESCRIPTION:Rehearsals continue for existing members. \nTo learn more about joining the choir when we’re next accepting new members\, click here. \n 
URL:https://singcommunitychoir.co.uk/event/sing-rehearsal-spring-2023-term-5/
LOCATION:Hills Road Sixth Form College\, Hills Road\, Cambridge\, Cambridgeshire\, CB2 8PE\, United Kingdom
CATEGORIES:Rehearsals
END:VEVENT
BEGIN:VEVENT
DTSTART;TZID=Europe/London:20230323T193000
DTEND;TZID=Europe/London:20230323T211500
DTSTAMP:20260422T173551
CREATED:20230129T113457Z
LAST-MODIFIED:20230129T113457Z
UID:2101-1679599800-1679606100@singcommunitychoir.co.uk
SUMMARY:Sing! Rehearsal - Spring 2023 Term
DESCRIPTION:Rehearsals continue for existing members. \nTo learn more about joining the choir when we’re next accepting new members\, click here. \n 
URL:https://singcommunitychoir.co.uk/event/sing-rehearsal-spring-2023-term-6/
LOCATION:Hills Road Sixth Form College\, Hills Road\, Cambridge\, Cambridgeshire\, CB2 8PE\, United Kingdom
CATEGORIES:Rehearsals
END:VEVENT
BEGIN:VEVENT
DTSTART;TZID=Europe/London:20230330T193000
DTEND;TZID=Europe/London:20230330T211500
DTSTAMP:20260422T173551
CREATED:20230129T113518Z
LAST-MODIFIED:20230129T113518Z
UID:2103-1680204600-1680210900@singcommunitychoir.co.uk
SUMMARY:Sing! Rehearsal - Spring 2023 Term
DESCRIPTION:Rehearsals continue for existing members. \nTo learn more about joining the choir when we’re next accepting new members\, click here. \n 
URL:https://singcommunitychoir.co.uk/event/sing-rehearsal-spring-2023-term-7/
LOCATION:Hills Road Sixth Form College\, Hills Road\, Cambridge\, Cambridgeshire\, CB2 8PE\, United Kingdom
CATEGORIES:Rehearsals
END:VEVENT
END:VCALENDAR