BEGIN:VCALENDAR
VERSION:2.0
PRODID:-//Sing! Community Choir - ECPv6.15.20//NONSGML v1.0//EN
CALSCALE:GREGORIAN
METHOD:PUBLISH
X-WR-CALNAME:Sing! Community Choir
X-ORIGINAL-URL:https://singcommunitychoir.co.uk
X-WR-CALDESC:Events for Sing! Community Choir
REFRESH-INTERVAL;VALUE=DURATION:PT1H
X-Robots-Tag:noindex
X-PUBLISHED-TTL:PT1H
BEGIN:VTIMEZONE
TZID:Europe/London
BEGIN:DAYLIGHT
TZOFFSETFROM:+0000
TZOFFSETTO:+0100
TZNAME:BST
DTSTART:20210328T010000
END:DAYLIGHT
BEGIN:STANDARD
TZOFFSETFROM:+0100
TZOFFSETTO:+0000
TZNAME:GMT
DTSTART:20211031T010000
END:STANDARD
BEGIN:DAYLIGHT
TZOFFSETFROM:+0000
TZOFFSETTO:+0100
TZNAME:BST
DTSTART:20220327T010000
END:DAYLIGHT
BEGIN:STANDARD
TZOFFSETFROM:+0100
TZOFFSETTO:+0000
TZNAME:GMT
DTSTART:20221030T010000
END:STANDARD
BEGIN:DAYLIGHT
TZOFFSETFROM:+0000
TZOFFSETTO:+0100
TZNAME:BST
DTSTART:20230326T010000
END:DAYLIGHT
BEGIN:STANDARD
TZOFFSETFROM:+0100
TZOFFSETTO:+0000
TZNAME:GMT
DTSTART:20231029T010000
END:STANDARD
END:VTIMEZONE
BEGIN:VEVENT
DTSTART;TZID=Europe/London:20221201T190000
DTEND;TZID=Europe/London:20221201T211500
DTSTAMP:20260422T225935
CREATED:20220823T211040Z
LAST-MODIFIED:20221018T205948Z
UID:1941-1669921200-1669929300@singcommunitychoir.co.uk
SUMMARY:Sing! (Long) Rehearsal
DESCRIPTION:Rehearsals continue for our upcoming Christmas Concert. This is an extra-long rehearsal as we’re getting close to the big day! \nTo learn more about joining the choir when we’re next accepting new members\, click here. \n 
URL:https://singcommunitychoir.co.uk/event/sing-rehearsal-20221201/
LOCATION:Hills Road Sixth Form College\, Hills Road\, Cambridge\, Cambridgeshire\, CB2 8PE\, United Kingdom
CATEGORIES:Rehearsals
END:VEVENT
BEGIN:VEVENT
DTSTART;TZID=Europe/London:20221203T150000
DTEND;TZID=Europe/London:20221203T154500
DTSTAMP:20260422T225935
CREATED:20221018T205853Z
LAST-MODIFIED:20221113T122315Z
UID:1948-1670079600-1670082300@singcommunitychoir.co.uk
SUMMARY:Mill Road Winter Fair
DESCRIPTION:The Mill Road Winter Fair is back\, and so are we! \nAfter a two year break\, the Mill Road Winter Fair is back! The fair is a celebration of community along one of the most diverse and vibrant roads in Cambridge. It brings together local businesses and organisations\, shops and stallholders\, musicians\, artists and dancers in one day of festival joy. We’ve been lucky enough to perform at several events in the past\, and can’t wait to sing for you again! \nWe will be performing at St Philip’s Church at 3pm on 3 December 2022. Come along for a sneak peak at some of our Christmas Concert set list\, and to support such a wonderful event!
URL:https://singcommunitychoir.co.uk/event/mill-road-winter-fair-2022/
LOCATION:St Philip’s Church\, 185 Mill Road\, Cambridge\, Cambridgeshire\, CB1 3AN\, United Kingdom
CATEGORIES:Community
ATTACH;FMTTYPE=image/jpeg:https://singcommunitychoir.co.uk/wp-content/uploads/2022/10/79833977_10103462696834950_5464475740965699584_n-1-e1666126561922.jpg
END:VEVENT
BEGIN:VEVENT
DTSTART;TZID=Europe/London:20221208T190000
DTEND;TZID=Europe/London:20221208T211500
DTSTAMP:20260422T225935
CREATED:20220823T211040Z
LAST-MODIFIED:20221127T125312Z
UID:1943-1670526000-1670534100@singcommunitychoir.co.uk
SUMMARY:Sing! (Long) Rehearsal
DESCRIPTION:Rehearsals continue for our upcoming Christmas Concert. This is an extra-long rehearsal with our band as we’re getting close to the big day! \nTo learn more about joining the choir when we’re next accepting new members\, click here. \n 
URL:https://singcommunitychoir.co.uk/event/sing-rehearsal-20221208/
LOCATION:Hills Road Sixth Form College\, Hills Road\, Cambridge\, Cambridgeshire\, CB2 8PE\, United Kingdom
CATEGORIES:Rehearsals
END:VEVENT
BEGIN:VEVENT
DTSTART;TZID=Europe/London:20221210T193000
DTEND;TZID=Europe/London:20221210T213000
DTSTAMP:20260422T225935
CREATED:20220823T210409Z
LAST-MODIFIED:20221201T141028Z
UID:1824-1670700600-1670707800@singcommunitychoir.co.uk
SUMMARY:Put A Little Love In Your Heart: Christmas Concert 2022
DESCRIPTION:We are delighted to invite you to an evening of fun and festive music with Sing! Community Choir. \nWe’re closing out our 10th anniversary in style while supporting Cambridge Acorn Project. \nNearest parking: \n\nGrand Arcade Car Park\nQueen Anne Terrace Car Park\n\nBook your tickets online now (or cash on the door) \n\n \nPlease review our latest COVID-19 safety guidelines before attending.
URL:https://singcommunitychoir.co.uk/event/sing-christmas-concert-2022/
LOCATION:St. Andrew’s Street Baptist Church\, 43 St. Andrew's Street\, Cambridge\, Cambridgeshire\, CB2 3AR\, United Kingdom
CATEGORIES:Concerts
ATTACH;FMTTYPE=image/jpeg:https://singcommunitychoir.co.uk/wp-content/uploads/2022/08/2022-Christmas-Concert-Poster-Sing-Facebook-Event-Cover.jpg
END:VEVENT
BEGIN:VEVENT
DTSTART;TZID=Europe/London:20221218T104500
DTEND;TZID=Europe/London:20221218T112500
DTSTAMP:20260422T225935
CREATED:20221202T132409Z
LAST-MODIFIED:20221214T092935Z
UID:2002-1671360300-1671362700@singcommunitychoir.co.uk
SUMMARY:Busking in Grand Arcade\, Cambridge
DESCRIPTION:Members of Sing! will join the The Punting Players\, a brass group\, and will be busking traditional Christmas carols and songs in the Grand Arcade in Cambridge. \nYou can spot us near John Lewis from 10:45-11:25am\, in some of our finest Christmas get-up!
URL:https://singcommunitychoir.co.uk/event/busking-in-grand-arcade-cambridge/
LOCATION:Grand Arcade\, Grand Arcade\, St Andrew's Street\, Cambridge\, CB2 3BJ\, United Kingdom
CATEGORIES:Community,Concerts
ATTACH;FMTTYPE=image/jpeg:https://singcommunitychoir.co.uk/wp-content/uploads/2022/12/5ba4dd0e-a836-46aa-a828-4354c963ceaa.jpg
END:VEVENT
END:VCALENDAR