BEGIN:VCALENDAR
VERSION:2.0
PRODID:-//Sing! Community Choir - ECPv6.15.20//NONSGML v1.0//EN
CALSCALE:GREGORIAN
METHOD:PUBLISH
X-ORIGINAL-URL:https://singcommunitychoir.co.uk
X-WR-CALDESC:Events for Sing! Community Choir
REFRESH-INTERVAL;VALUE=DURATION:PT1H
X-Robots-Tag:noindex
X-PUBLISHED-TTL:PT1H
BEGIN:VTIMEZONE
TZID:Europe/London
BEGIN:DAYLIGHT
TZOFFSETFROM:+0000
TZOFFSETTO:+0100
TZNAME:BST
DTSTART:20210328T010000
END:DAYLIGHT
BEGIN:STANDARD
TZOFFSETFROM:+0100
TZOFFSETTO:+0000
TZNAME:GMT
DTSTART:20211031T010000
END:STANDARD
BEGIN:DAYLIGHT
TZOFFSETFROM:+0000
TZOFFSETTO:+0100
TZNAME:BST
DTSTART:20220327T010000
END:DAYLIGHT
BEGIN:STANDARD
TZOFFSETFROM:+0100
TZOFFSETTO:+0000
TZNAME:GMT
DTSTART:20221030T010000
END:STANDARD
BEGIN:DAYLIGHT
TZOFFSETFROM:+0000
TZOFFSETTO:+0100
TZNAME:BST
DTSTART:20230326T010000
END:DAYLIGHT
BEGIN:STANDARD
TZOFFSETFROM:+0100
TZOFFSETTO:+0000
TZNAME:GMT
DTSTART:20231029T010000
END:STANDARD
END:VTIMEZONE
BEGIN:VEVENT
DTSTART;TZID=Europe/London:20221006T193000
DTEND;TZID=Europe/London:20221006T211500
DTSTAMP:20260423T023019
CREATED:20220823T211040Z
LAST-MODIFIED:20220823T211714Z
UID:1834-1665084600-1665090900@singcommunitychoir.co.uk
SUMMARY:Sing! Rehearsal
DESCRIPTION:Rehearsals continue for our upcoming Christmas Concert. \nTo learn more about joining the choir when we’re next accepting new members\, click here. \n 
URL:https://singcommunitychoir.co.uk/event/sing-rehearsal-2/
LOCATION:Hills Road Sixth Form College\, Hills Road\, Cambridge\, Cambridgeshire\, CB2 8PE\, United Kingdom
CATEGORIES:Rehearsals
END:VEVENT
BEGIN:VEVENT
DTSTART;TZID=Europe/London:20221013T193000
DTEND;TZID=Europe/London:20221013T211500
DTSTAMP:20260423T023019
CREATED:20220823T211040Z
LAST-MODIFIED:20220823T211418Z
UID:1833-1665689400-1665695700@singcommunitychoir.co.uk
SUMMARY:Sing! Rehearsal
DESCRIPTION:Rehearsals continue for our upcoming Christmas Concert. \nTo learn more about joining the choir when we’re next accepting new members\, click here. \n 
URL:https://singcommunitychoir.co.uk/event/sing-rehearsal-3/
LOCATION:Hills Road Sixth Form College\, Hills Road\, Cambridge\, Cambridgeshire\, CB2 8PE\, United Kingdom
CATEGORIES:Rehearsals
END:VEVENT
BEGIN:VEVENT
DTSTART;TZID=Europe/London:20221020T193000
DTEND;TZID=Europe/London:20221020T211500
DTSTAMP:20260423T023019
CREATED:20220823T211040Z
LAST-MODIFIED:20220823T211438Z
UID:1832-1666294200-1666300500@singcommunitychoir.co.uk
SUMMARY:Sing! Rehearsal
DESCRIPTION:Rehearsals continue for our upcoming Christmas Concert. \nTo learn more about joining the choir when we’re next accepting new members\, click here. \n 
URL:https://singcommunitychoir.co.uk/event/sing-rehearsal-4/
LOCATION:Hills Road Sixth Form College\, Hills Road\, Cambridge\, Cambridgeshire\, CB2 8PE\, United Kingdom
CATEGORIES:Rehearsals
END:VEVENT
BEGIN:VEVENT
DTSTART;TZID=Europe/London:20221027T193000
DTEND;TZID=Europe/London:20221027T211500
DTSTAMP:20260423T023019
CREATED:20220823T211040Z
LAST-MODIFIED:20221011T175051Z
UID:1934-1666899000-1666905300@singcommunitychoir.co.uk
SUMMARY:Sing! Rehearsal
DESCRIPTION:Rehearsals continue for our upcoming Christmas Concert. \nTo learn more about joining the choir when we’re next accepting new members\, click here. \n 
URL:https://singcommunitychoir.co.uk/event/sing-rehearsal-5-2/
LOCATION:Hills Road Sixth Form College\, Hills Road\, Cambridge\, Cambridgeshire\, CB2 8PE\, United Kingdom
CATEGORIES:Rehearsals
END:VEVENT
END:VCALENDAR