BEGIN:VCALENDAR
VERSION:2.0
PRODID:-//Sing! Community Choir - ECPv6.15.20//NONSGML v1.0//EN
CALSCALE:GREGORIAN
METHOD:PUBLISH
X-WR-CALNAME:Sing! Community Choir
X-ORIGINAL-URL:https://singcommunitychoir.co.uk
X-WR-CALDESC:Events for Sing! Community Choir
REFRESH-INTERVAL;VALUE=DURATION:PT1H
X-Robots-Tag:noindex
X-PUBLISHED-TTL:PT1H
BEGIN:VTIMEZONE
TZID:Europe/London
BEGIN:DAYLIGHT
TZOFFSETFROM:+0000
TZOFFSETTO:+0100
TZNAME:BST
DTSTART:20210328T010000
END:DAYLIGHT
BEGIN:STANDARD
TZOFFSETFROM:+0100
TZOFFSETTO:+0000
TZNAME:GMT
DTSTART:20211031T010000
END:STANDARD
BEGIN:DAYLIGHT
TZOFFSETFROM:+0000
TZOFFSETTO:+0100
TZNAME:BST
DTSTART:20220327T010000
END:DAYLIGHT
BEGIN:STANDARD
TZOFFSETFROM:+0100
TZOFFSETTO:+0000
TZNAME:GMT
DTSTART:20221030T010000
END:STANDARD
BEGIN:DAYLIGHT
TZOFFSETFROM:+0000
TZOFFSETTO:+0100
TZNAME:BST
DTSTART:20230326T010000
END:DAYLIGHT
BEGIN:STANDARD
TZOFFSETFROM:+0100
TZOFFSETTO:+0000
TZNAME:GMT
DTSTART:20231029T010000
END:STANDARD
END:VTIMEZONE
BEGIN:VEVENT
DTSTART;TZID=Europe/London:20220709T193000
DTEND;TZID=Europe/London:20220709T213000
DTSTAMP:20260423T080032
CREATED:20220823T212917Z
LAST-MODIFIED:20220831T185821Z
UID:1843-1657395000-1657402200@singcommunitychoir.co.uk
SUMMARY:All You Gotta Do Is Sing!
DESCRIPTION:Prev\n1 of 2\nNext\n\n\n	\n					\n								\n					\n						\n															\n													\n					\n											Shut Up and Dance (2022) - Sing! Community Choir\n																					\n									\n							\n				\n						\n								\n					\n						\n															\n													\n					\n											Build Me Up Buttercup - Sing! Community Choir\n																					\n									\n							\n				\n						\n								\n					\n						\n															\n													\n					\n											Blue Skies - Sing! Community Choir\n																					\n									\n							\n				\n						\n								\n					\n						\n															\n													\n					\n											The Wellerman - Sing! Community Choir\n																					\n									\n							\n				\n						\n								\n					\n						\n															\n													\n					\n											Dream A Little Dream\, Sweetheart - Sing! Community Choir\n																					\n									\n							\n				\n						\n								\n					\n						\n															\n													\n					\n											Lovely Day (2022) - Sing! Community Choir\n																					\n									\n							\n				\n						\n								\n					\n						\n															\n													\n					\n											Bring Me Little Water\, Silvy (2022) - Sing! Community Choir\n																					\n									\n							\n				\n						\n								\n					\n						\n															\n													\n					\n											Vela Sikubone - Sing! Community Choir\n																					\n									\n							\n				\n						\n								\n					\n						\n															\n													\n					\n											Rhythm of Love - Sing! Community Choir\n																					\n									\n							\n				\n						\n								\n					\n						\n															\n													\n					\n											One Day Like This - Sing! Community Choir\n																					\n									\n							\n				\n						\n								\n					\n						\n															\n													\n					\n											It Don't Mean a Thing (2022) - Sing! Community Choir\n																					\n									\n							\n				\n						\n								\n					\n						\n															\n													\n					\n											What A Wonderful World - Sing! Community Choir\n																					\n									\n							\n				\n				\n\nPrev\n1 of 2\nNext\n\n				\n			\n			\n\nCome and celebrate 10 glorious years of Sing! at our 10th Anniversary Concert! \nOn Saturday 9 July 2022 at 7:30pm\, please join us at Atrium Hall\, The Netherhall School in Cambridge for an evening full of music and fun to celebrate 10 years of Sing! \nTickets are £10 / £5 concessions\, or free for under 10s. \nOur concert is in support of Romsey Mill\, a Cambridgeshire charity creating opportunities for change with young people and families. \nDoors open 7:10pm for a 7:30pm start. \nBook online now to secure your seat! Tickets on the door will be cash only. \n\n\n   \n  \n\n\n \n\n\n\n\n\n\n\n\n\n\n\n\n\nDo not attend if you are unwell or likely to be infectious \nSee also COVID-19 Safety \n\nGetting here\n\n\n\nAtrium Hall at The Netherhall School has ample free parking\, and is accessible by frequent buses from the town centre and station. \n\n\n\nBy Car / Bike:\n\n\n\nDirections via Google Maps \n\n\n\n\nPlease enter the Netherhall School site through the Students Entrance (not the main school/sports centre entrance)\n\nThe ‘Students Entrance’ is a separate gateway off Queen Edith’s Way\nCar parking is in the playground.\nThere will be signs to show you the way!\n\n\n\n\n\n\nBy Bus:\n\n\n\nThe Citi 1 bus stops outside the school\, and runs frequently from the centre of town via the station towards Cherry Hinton. \n\n 
URL:https://singcommunitychoir.co.uk/event/all-you-gotta-do-is-sing/
LOCATION:Atrium Hall\, The Netherhall School\, Cambridge\, United Kingdom
CATEGORIES:Concerts
ATTACH;FMTTYPE=image/jpeg:https://singcommunitychoir.co.uk/wp-content/uploads/2022/06/2022-06-Concert-Poster-Portrait-3-extrabold.jpg
END:VEVENT
END:VCALENDAR