BEGIN:VCALENDAR
VERSION:2.0
PRODID:-//Sing! Community Choir - ECPv6.15.20//NONSGML v1.0//EN
CALSCALE:GREGORIAN
METHOD:PUBLISH
X-ORIGINAL-URL:https://singcommunitychoir.co.uk
X-WR-CALDESC:Events for Sing! Community Choir
REFRESH-INTERVAL;VALUE=DURATION:PT1H
X-Robots-Tag:noindex
X-PUBLISHED-TTL:PT1H
BEGIN:VTIMEZONE
TZID:Europe/London
BEGIN:DAYLIGHT
TZOFFSETFROM:+0000
TZOFFSETTO:+0100
TZNAME:BST
DTSTART:20240331T010000
END:DAYLIGHT
BEGIN:STANDARD
TZOFFSETFROM:+0100
TZOFFSETTO:+0000
TZNAME:GMT
DTSTART:20241027T010000
END:STANDARD
BEGIN:DAYLIGHT
TZOFFSETFROM:+0000
TZOFFSETTO:+0100
TZNAME:BST
DTSTART:20250330T010000
END:DAYLIGHT
BEGIN:STANDARD
TZOFFSETFROM:+0100
TZOFFSETTO:+0000
TZNAME:GMT
DTSTART:20251026T010000
END:STANDARD
BEGIN:DAYLIGHT
TZOFFSETFROM:+0000
TZOFFSETTO:+0100
TZNAME:BST
DTSTART:20260329T010000
END:DAYLIGHT
BEGIN:STANDARD
TZOFFSETFROM:+0100
TZOFFSETTO:+0000
TZNAME:GMT
DTSTART:20261025T010000
END:STANDARD
BEGIN:DAYLIGHT
TZOFFSETFROM:+0000
TZOFFSETTO:+0100
TZNAME:BST
DTSTART:20270328T010000
END:DAYLIGHT
BEGIN:STANDARD
TZOFFSETFROM:+0100
TZOFFSETTO:+0000
TZNAME:GMT
DTSTART:20271031T010000
END:STANDARD
END:VTIMEZONE
BEGIN:VEVENT
DTSTART;TZID=Europe/London:20250622T160000
DTEND;TZID=Europe/London:20250622T173000
DTSTAMP:20260421T021550
CREATED:20250610T224918Z
LAST-MODIFIED:20250610T225115Z
UID:2571-1750608000-1750613400@singcommunitychoir.co.uk
SUMMARY:Voices of Hope and Compassion
DESCRIPTION:We’re thrilled to be performing at Voices of Hope and Compassion at the Cambridge Corn Exchange on Sunday 22 June\, 4–5.30pm – and we’d love for you to join us.\n\n\nThis free concert marks Refugee Week and will be hosted by writer Michael Rosen\, featuring choirs\, poets\, musicians\, dancers and drama groups all coming together to celebrate the contributions\, creativity & resilience of refugees and people seeking sanctuary.\n\n\nVoluntary donations on the day will support two local refugee charities: CamCRAG and the Cambridge Refugee Hardship Fund.\n\n\nCome & stand with us in support and solidarity  \n\n\nSupported by Cambridge City Council and Historyworks\n 
URL:https://singcommunitychoir.co.uk/event/voices-of-hope-and-compassion/
LOCATION:Cambridge Corn Exchange\, 2 Wheeler St\, Cambridge\, CB2 3QB
CATEGORIES:Concerts
ATTACH;FMTTYPE=image/jpeg:https://singcommunitychoir.co.uk/wp-content/uploads/2025/06/Refugee-Concert-Instagram2.jpg
END:VEVENT
BEGIN:VEVENT
DTSTART;TZID=Europe/London:20250713T193000
DTEND;TZID=Europe/London:20250713T213000
DTSTAMP:20260421T021550
CREATED:20250217T220357Z
LAST-MODIFIED:20250627T095059Z
UID:2519-1752435000-1752442200@singcommunitychoir.co.uk
SUMMARY:Summer Concert 2025 - Sunshine In My Pocket
DESCRIPTION:Come and enjoy an evening of joy and music\, celebrating the power of song! \nOn Sunday 13th July 2024 at 7:30pm\, please join us at Atrium Hall\, The Netherhall School in Cambridge. \n\nTickets are £10 / £5 concessions\, or free for under 10s. \nOur concert is in support of Clean Shelter who provide humanitarian aid in Gaza.  \nDoors open 7:10pm for a 7:30pm start. \nBook online now to secure your seat! Tickets on the door will be cash only. \n\n\n \n \n\n\n\n\n\n\n\n  \n\n\n\n  \nPlease do not attend if you are unwell or likely to be infectious: See also COVID-19 Safety \n\nGetting here\n\n  \n\nAtrium Hall at The Netherhall School has ample free parking\, and is accessible by frequent buses from the town centre and station. \n\n  \n\nBy Bus:\n\n  \n\nThe Citi 1 bus stops outside the school\, and runs frequently from the centre of town via the station towards Cherry Hinton. \n\nBy Car / Bike:\n\n  \n\nDirections via Google Maps \n\n  \n\nPlease enter the Netherhall School site through the Students Entrance (not the main school/sports centre entrance) \n\nThe ‘Students Entrance’ is a separate gateway off Queen Edith’s Way\nCar parking is in the playground.\nThere will be signs to show you the way!
URL:https://singcommunitychoir.co.uk/event/summer-concert-2025/
LOCATION:Atrium Hall\, The Netherhall School\, Cambridge\, United Kingdom
CATEGORIES:Concerts
ATTACH;FMTTYPE=image/jpeg:https://singcommunitychoir.co.uk/wp-content/uploads/2025/02/Copy-of-Summer-Concert-2025-Flyer.jpg
END:VEVENT
BEGIN:VEVENT
DTSTART;TZID=Europe/London:20260207T193000
DTEND;TZID=Europe/London:20260207T213000
DTSTAMP:20260421T021550
CREATED:20250828T184410Z
LAST-MODIFIED:20260115T003346Z
UID:2600-1770492600-1770499800@singcommunitychoir.co.uk
SUMMARY:Winter Concert 2026 - Keep Singing!
DESCRIPTION:Shake off the winter chill and join us for an uplifting evening of music\, harmony\, and community spirit. Expect stirring songs\, joyful rhythms\, and heartfelt performances that celebrate the power of voices coming together. \nWhether you’re a friend of the choir\, a regular supporter\, or simply someone who loves live music\, this promises to be a wonderful winter night out. Bring family\, friends\, and neighbours and come and enjoy the magic of community singing. \nOn Saturday 7th February 2026 at 7:30pm\, please join us at Atrium Hall\, The Netherhall School in Cambridge. \n\nTickets are £10 / £5 concessions\, or free for under 10s. \nDoors open 7:10pm for a 7:30pm start. \nBook online now to secure your seat! Tickets on the door will be cash only. \nWe’re raising money for  ‘Cambridgeshire Down’s Syndrome Community Network (CambsDSCN) who respond to a critical gap in local provision for families of children and young people with Down’s syndrome. . \n\n\n \n \n\n\n\n\n\n\n\n  \n\n\n\n  \nPlease do not attend if you are unwell or likely to be infectious: See also COVID-19 Safety \n\nGetting here\n\n  \n\nAtrium Hall at The Netherhall School has ample free parking\, and is accessible by frequent buses from the town centre and station. \n\n  \n\nBy Bus:\n\n  \n\nThe Citi 1 bus stops outside the school\, and runs frequently from the centre of town via the station towards Cherry Hinton. \n\nBy Car / Bike:\n\n  \n\nDirections via Google Maps \n\n  \n\nPlease enter the Netherhall School site through the Students Entrance (not the main school/sports centre entrance) \n\nThe ‘Students Entrance’ is a separate gateway off Queen Edith’s Way\nCar parking is in the playground.\nThere will be signs to show you the way!
URL:https://singcommunitychoir.co.uk/event/winter-concert-2026/
LOCATION:Atrium Hall\, The Netherhall School\, Cambridge\, United Kingdom
CATEGORIES:Concerts
END:VEVENT
BEGIN:VEVENT
DTSTART;TZID=Europe/London:20260711T193000
DTEND;TZID=Europe/London:20260711T213000
DTSTAMP:20260421T021550
CREATED:20250828T184245Z
LAST-MODIFIED:20250828T184458Z
UID:2598-1783798200-1783805400@singcommunitychoir.co.uk
SUMMARY:Summer Concert 2026
DESCRIPTION:Come and enjoy an evening of joy and music\, celebrating the power of song! \nOn Sunday 11th July 2026 at 7:30pm\, please join us at Atrium Hall\, The Netherhall School in Cambridge. \n\nTickets are £10 / £5 concessions\, or free for under 10s. \nDoors open 7:10pm for a 7:30pm start. \nBook online now to secure your seat! Tickets on the door will be cash only. \n\n\n \n \n\n\n\n\n\n\n\n  \n\n\n\n  \nPlease do not attend if you are unwell or likely to be infectious: See also COVID-19 Safety \n\nGetting here\n\n  \n\nAtrium Hall at The Netherhall School has ample free parking\, and is accessible by frequent buses from the town centre and station. \n\n  \n\nBy Bus:\n\n  \n\nThe Citi 1 bus stops outside the school\, and runs frequently from the centre of town via the station towards Cherry Hinton. \n\nBy Car / Bike:\n\n  \n\nDirections via Google Maps \n\n  \n\nPlease enter the Netherhall School site through the Students Entrance (not the main school/sports centre entrance) \n\nThe ‘Students Entrance’ is a separate gateway off Queen Edith’s Way\nCar parking is in the playground.\nThere will be signs to show you the way!
URL:https://singcommunitychoir.co.uk/event/summer-concert-2026/
LOCATION:Atrium Hall\, The Netherhall School\, Cambridge\, United Kingdom
CATEGORIES:Concerts
END:VEVENT
END:VCALENDAR