BEGIN:VCALENDAR
VERSION:2.0
PRODID:-//Sing! Community Choir - ECPv6.15.20//NONSGML v1.0//EN
CALSCALE:GREGORIAN
METHOD:PUBLISH
X-ORIGINAL-URL:https://singcommunitychoir.co.uk
X-WR-CALDESC:Events for Sing! Community Choir
REFRESH-INTERVAL;VALUE=DURATION:PT1H
X-Robots-Tag:noindex
X-PUBLISHED-TTL:PT1H
BEGIN:VTIMEZONE
TZID:Europe/London
BEGIN:DAYLIGHT
TZOFFSETFROM:+0000
TZOFFSETTO:+0100
TZNAME:BST
DTSTART:20220327T010000
END:DAYLIGHT
BEGIN:STANDARD
TZOFFSETFROM:+0100
TZOFFSETTO:+0000
TZNAME:GMT
DTSTART:20221030T010000
END:STANDARD
BEGIN:DAYLIGHT
TZOFFSETFROM:+0000
TZOFFSETTO:+0100
TZNAME:BST
DTSTART:20230326T010000
END:DAYLIGHT
BEGIN:STANDARD
TZOFFSETFROM:+0100
TZOFFSETTO:+0000
TZNAME:GMT
DTSTART:20231029T010000
END:STANDARD
BEGIN:DAYLIGHT
TZOFFSETFROM:+0000
TZOFFSETTO:+0100
TZNAME:BST
DTSTART:20240331T010000
END:DAYLIGHT
BEGIN:STANDARD
TZOFFSETFROM:+0100
TZOFFSETTO:+0000
TZNAME:GMT
DTSTART:20241027T010000
END:STANDARD
END:VTIMEZONE
BEGIN:VEVENT
DTSTART;TZID=Europe/London:20230112T193000
DTEND;TZID=Europe/London:20230112T211500
DTSTAMP:20260421T144637
CREATED:20221231T161539Z
LAST-MODIFIED:20221231T161827Z
UID:2031-1673551800-1673558100@singcommunitychoir.co.uk
SUMMARY:Sing! Rehearsal and Taster Week
DESCRIPTION:New members are welcome to come along and try out Sing! as we start a new term\nWe’ll be learning our new repertoire for the term right from the very start\, so come along to the earliest taster session you can so that you don’t miss out when you decide to join our fun and friendly choir! \nLearn more about how to join us!
URL:https://singcommunitychoir.co.uk/event/sing-rehearsal-and-taster-week-2023-01-12/
LOCATION:Hills Road Sixth Form College\, Hills Road\, Cambridge\, Cambridgeshire\, CB2 8PE\, United Kingdom
CATEGORIES:Rehearsals,Taster Sessions
ATTACH;FMTTYPE=image/jpeg:https://singcommunitychoir.co.uk/wp-content/uploads/2022/12/open-gcecfedd86_1920.jpg
END:VEVENT
BEGIN:VEVENT
DTSTART;TZID=Europe/London:20230119T193000
DTEND;TZID=Europe/London:20230119T211500
DTSTAMP:20260421T144637
CREATED:20221231T161812Z
LAST-MODIFIED:20221231T161812Z
UID:2033-1674156600-1674162900@singcommunitychoir.co.uk
SUMMARY:Sing! Rehearsal and Taster Week
DESCRIPTION:New members are welcome to come along and try out Sing! as we start a new term\nWe’ll be learning our new repertoire for the term right from the very start\, so come along to the earliest taster session you can so that you don’t miss out when you decide to join our fun and friendly choir! \nLearn more about how to join us!
URL:https://singcommunitychoir.co.uk/event/sing-rehearsal-and-taster-week-2023-01-19/
LOCATION:Hills Road Sixth Form College\, Hills Road\, Cambridge\, Cambridgeshire\, CB2 8PE\, United Kingdom
CATEGORIES:Rehearsals,Taster Sessions
ATTACH;FMTTYPE=image/jpeg:https://singcommunitychoir.co.uk/wp-content/uploads/2022/12/open-gcecfedd86_1920.jpg
END:VEVENT
BEGIN:VEVENT
DTSTART;TZID=Europe/London:20230126T193000
DTEND;TZID=Europe/London:20230126T211500
DTSTAMP:20260421T144637
CREATED:20221231T161859Z
LAST-MODIFIED:20221231T161859Z
UID:2034-1674761400-1674767700@singcommunitychoir.co.uk
SUMMARY:Sing! Rehearsal and Taster Week
DESCRIPTION:New members are welcome to come along and try out Sing! as we start a new term\nWe’ll be learning our new repertoire for the term right from the very start\, so come along to the earliest taster session you can so that you don’t miss out when you decide to join our fun and friendly choir! \nLearn more about how to join us!
URL:https://singcommunitychoir.co.uk/event/sing-rehearsal-and-taster-week-2023-01-26/
LOCATION:Hills Road Sixth Form College\, Hills Road\, Cambridge\, Cambridgeshire\, CB2 8PE\, United Kingdom
CATEGORIES:Rehearsals,Taster Sessions
ATTACH;FMTTYPE=image/jpeg:https://singcommunitychoir.co.uk/wp-content/uploads/2022/12/open-gcecfedd86_1920.jpg
END:VEVENT
END:VCALENDAR